Workbook
Name HIDPlanList: Data!$A$3:$A$36
Name HIPlanList: Data!$A$3:$A$35
Name HIPlans: Data!$A$2:$G$35

Sheet 6 Options
B2: Option 1 | D2: 920 | F2: Today's Date
B3: Option 2 | D3: 930 | F3: Program: | G3: Synchrony Bank
B4: Option 3 | D4: 980
B5: Option 4 | D5: 991
B6: Option 5 | D6: 950
B7: Option 6 | D7: 982
B17: Promotion Options
B18: Synchrony® Bank provides you with a variety of promotional offers designed to fit specific financial needs. The promotional options available to you are listed below. For additional disclosure information, please see the reverse side.
C20: =CONCATENATE(VLOOKUP($D$2,Data!A:G,2,FALSE)," Plan ",D2) -> No Interest if Paid in Full within 6 Months* Plan 920
C21: =IF($D$2="none"," ",IF(VLOOKUP($G$3,'Program List'!$E$1:$F$24,2,FALSE)=1,CONCATENATE(VLOOKUP($D$2,Data!A:G,4,FALSE),$G$3,VLOOKUP($D$2,Data!A:H,5,FALSE)),CONCATENATE(VLOOKUP($D$2,Data!A:G,3,FALSE),$G$3,VLOOKUP($D$2,Data!A:H,5,FALSE)))) -> On qualifying purchases made with your Synchrony Bank credit card. Interest will be charged to your account from the purchase date if the promotional purchase is not paid in full within 6 months. $29 Account Activation fee may apply. Fixed payments of 2.50% of the highest balance applicable to this promo purchase until paid in full. See reverse side for additional information
M22: Optional: Add restrictions
C23: =CONCATENATE(VLOOKUP($D$3,Data!A:G,2,FALSE)," Plan ",D3) -> No Interest for 25 Months* Plan 930
C24: =IF($D$3="none"," ",IF(VLOOKUP($G$3,'Program List'!$E$1:$F$24,2,FALSE)=1,CONCATENATE(VLOOKUP($D$3,Data!A:G,4,FALSE),$G$3,VLOOKUP($D$3,Data!A:H,5,FALSE)),CONCATENATE(VLOOKUP($D$3,Data!A:G,3,FALSE),$G$3,VLOOKUP($D$3,Data!A:H,5,FALSE)))) -> On qualifying purchases made with your Synchrony Bank credit card. $29 Account Activation fee may apply. Equal monthly payments required for 25 Months. See reverse side for additional information
M25: Optional: Add restrictions
C26: =CONCATENATE(VLOOKUP($D$4,Data!A:G,2,FALSE)," Plan ",D4) -> 5.99% APR Until Paid in Full* Plan 980
C27: =IF($D$4="none"," ",IF(VLOOKUP($G$3,'Program List'!$E$1:$F$24,2,FALSE)=1,CONCATENATE(VLOOKUP($D$4,Data!A:G,4,FALSE),$G$3,VLOOKUP($D$4,Data!A:H,5,FALSE)),CONCATENATE(VLOOKUP($D$4,Data!A:G,3,FALSE),$G$3,VLOOKUP($D$4,Data!A:H,5,FALSE)))) -> On qualifying purchases made with your Synchrony Bank credit card. $29 Account Activation fee may apply. Fixed monthly payments required for 37 months. See reverse side for additional information.
M28: Optional: Add restrictions
C29: =CONCATENATE(VLOOKUP($D$5,Data!A:G,2,FALSE)," Plan ",D5) -> 7.99% APR Until Paid in Full* Plan 991
C30: =IF($D$5="none"," ",IF(VLOOKUP($G$3,'Program List'!$E$1:$F$24,2,FALSE)=1,CONCATENATE(VLOOKUP($D$5,Data!A:G,4,FALSE),$G$3,VLOOKUP($D$5,Data!A:H,5,FALSE)),CONCATENATE(VLOOKUP($D$5,Data!A:G,3,FALSE),$G$3,VLOOKUP($D$5,Data!A:H,5,FALSE)))) -> On qualifying purchases made with your Synchrony Bank credit card. $29 Account Activation fee may apply. Fixed monthly payments required for 28 months. See reverse side for additional information.
M31: Optional: Add restrictions
C32: =CONCATENATE(VLOOKUP($D$6,Data!A:G,2,FALSE)," Plan ",D6) -> 5.99% APR Until Paid in Full* Plan 950
C33: =IF($D$6="none"," ",IF(VLOOKUP($G$3,'Program List'!$E$1:$F$24,2,FALSE)=1,CONCATENATE(VLOOKUP($D$6,Data!A:G,4,FALSE),$G$3,VLOOKUP($D$6,Data!A:H,5,FALSE)),CONCATENATE(VLOOKUP($D$6,Data!A:G,3,FALSE),$G$3,VLOOKUP($D$6,Data!A:H,5,FALSE)))) -> On qualifying purchases made with your Synchrony Bank credit card. $29 Account Activation fee may apply. Fixed monthly payments required for 82 months. See reverse side for additional information.
M34: Optional: Add restrictions
C35: =CONCATENATE(VLOOKUP($D$7,Data!A:G,2,FALSE)," Plan ",D7) -> 9.99% APR Until Paid in Full* Plan 982
C36: =IF($D$7="none"," ",IF(VLOOKUP($G$3,'Program List'!$E$1:$F$24,2,FALSE)=1,CONCATENATE(VLOOKUP($D$7,Data!A:G,4,FALSE),$G$3,VLOOKUP($D$7,Data!A:H,5,FALSE)),CONCATENATE(VLOOKUP($D$7,Data!A:G,3,FALSE),$G$3,VLOOKUP($D$7,Data!A:H,5,FALSE)))) -> On qualifying purchases made with your Synchrony Bank credit card. $29 Account Activation fee may apply. Fixed monthly payments required for 40 months. See reverse side for additional information.
C38: Supporting Promotional Disclosures
C41: =IF(D2="None"," ",CONCATENATE(VLOOKUP($D$2,Data!A:H,7,FALSE),$H$2,VLOOKUP($D$2,Data!A:H,8,FALSE))) -> Plan 920: No interest will be charged on the promo balance if you pay it off, in full, within the promo period. If you do not, interest will be charged on the promo balance from the purchase date. Fixed monthly payments are required equal to 2.5% of the highest balance applicable to this promo purchase until paid in full. The fixed monthly payment will be rounded to the next highest whole dollar and may be higher than the minimum payment that would be required if the purchase was a non-promotional purchase. The required minimum monthly payments may or may not pay off the promo balance before the end of the promo period, depending on purchase amount, promo length and payment allocation. Regular account terms apply to non-promo purchases and, after promo period ends, to the promo balance except that the fixed monthly payment will continue to be required until the promotion is paid in full. New accounts as of 7/16/24: Purchase APR is 26.99%; Minimum Interest Charge is $2. One-time Account Activation Fee of $29 charged at time first purchase posts to account. Existing cardholders: See your credit card agreement terms. Subject to credit approval.
C43: =IF(D3="None"," ",CONCATENATE(VLOOKUP($D$3,Data!A:H,7,FALSE),$H$2,VLOOKUP($D$3,Data!A:H,8,FALSE))) -> Plan 930: No interest will be charged, and equal monthly payments are required on promo purchase until it is paid in full. The payments equal the initial total promo purchase amount divided by the number of months in the promo period, rounded up to the next whole dollar. These payments may be higher than the payments that would be required if this purchase was a non-promo purchase. During the last month(s) of the promo period the required monthly payment may be reduced due to the prior months’ rounding. Regular account terms apply to non-promo purchases. New Accounts as of 7/16/24: Purchase APR is 26.99%; Minimum Interest Charge is $2. One-time Account Activation Fee of $29 charged at time first purchase posts to account. Existing cardholders: See your credit card agreement terms. Subject to credit approval.
C44: =IF(D4="None"," ",CONCATENATE(VLOOKUP($D$4,Data!A:H,7,FALSE),$H$2,VLOOKUP($D$4,Data!A:H,8,FALSE))) -> Plan 980: Interest will be charged on the promo purchase from the purchase date at a reduced 5.99% APR, and fixed monthly payments are required until paid in full. These payments are equal to 3.00% of initial total promo purchase amount, rounded up to the next whole dollar. These payments may be higher than the payments that would be required if the purchase was a non-promo purchase. During the last month(s) of the promo period the required monthly payment may be reduced due to the prior months' rounding. Regular account terms apply to non-promotional purchases.New Accounts as of 7/16/24: Purchase APR 26.99%. Min Interest Charge $2. One-time Account Activation Fee of $29 charged at time first purchase posts to account. Existing cardholders: See your credit card agreement terms. Subject to credit approval.
C45: =IF(D5="None"," ",CONCATENATE(VLOOKUP($D$5,Data!A:H,7,FALSE),$H$2,VLOOKUP($D$5,Data!A:H,8,FALSE))) -> Plan 991: Interest will be charged on the promo purchase from the purchase date at a reduced 7.99% APR, and fixed monthly payments are required until paid in full. These payments are equal to 4.00% of initial total promo purchase amount, rounded up to the next whole dollar. These payments may be higher than the payments that would be required if the purchase was a non-promo purchase. During the last month(s) of the promo period the required monthly payment may be reduced due to the prior months' rounding. Regular account terms apply to non-promotional purchases. New Accounts as of 7/16/24: Purchase APR 26.99%. Min Interest Charge $2. One-time Account Activation Fee of $29 charged at time first purchase posts to account. Existing cardholders: See your credit card agreement terms. Subject to credit approval.
C46: =IF(D6="None"," ",CONCATENATE(VLOOKUP($D$6,Data!A:H,7,FALSE),$H$2,VLOOKUP($D$6,Data!A:H,8,FALSE))) -> Plan 950: Interest will be charged on the promo purchase from the purchase date at a reduced 5.99% APR, and fixed monthly payments are required until paid in full. These payments are equal to 1.50% of initial total promo purchase amount, rounded up to the next whole dollar. These payments may be higher than the payments that would be required if the purchase was a non-promo purchase. During the last month(s) of the promo period the required monthly payment may be reduced due to the prior months' rounding. Regular account terms apply to non-promotional purchases. New Accounts as of 7/16/24: Purchase APR 26.99%. Min Interest Charge $2. One-time Account Activation Fee of $29 charged at time first purchase posts to account. Existing cardholders: See your credit card agreement terms. Subject to credit approval.
C47: =IF(D9="None"," ",CONCATENATE(VLOOKUP($D$7,Data!A:H,7,FALSE),$H$2,VLOOKUP($D$7,Data!A:H,8,FALSE))) -> Plan 982: Interest will be charged on the promo purchase from the purchase date at a reduced 9.99% APR, and fixed monthly payments are required until paid in full. These payments are equal to 3.00% of initial total promo purchase amount, rounded up to the next whole dollar. These payments may be higher than the payments that would be required if the purchase was a non-promo purchase. During the last month(s) of the promo period the required monthly payment may be reduced due to the prior months' rounding. Regular account terms apply to non-promotional purchases. New Accounts as of 7/16/24: Purchase APR 26.99%. Min Interest Charge $2. One-time Account Activation Fee of $29 charged at time first purchase posts to account. Existing cardholders: See your credit card agreement terms. Subject to credit approval.

Sheet 5 Options
B2: Option 1 | D2: 920 | F2: Today's Date
B3: Option 2 | D3: 940 | F3: Program: | G3: Synchrony Bank
B4: Option 3 | D4: 930
B5: Option 4 | D5: 991
B6: Option 5 | D6: 950
B16: Promotion Options
B17: Synchrony® Bank provides you with a variety of promotional offers designed to fit specific financial needs. The promotional options available to you are listed below. For additional disclosure information, please see the reverse side.
C20: =CONCATENATE(VLOOKUP($D$2,Data!A:G,2,FALSE)," Plan ",D2) -> No Interest if Paid in Full within 6 Months* Plan 920
C21: =IF($D$2="none"," ",IF(VLOOKUP($G$3,'Program List'!$E$1:$F$24,2,FALSE)=1,CONCATENATE(VLOOKUP($D$2,Data!A:G,4,FALSE),$G$3,VLOOKUP($D$2,Data!A:H,5,FALSE)),CONCATENATE(VLOOKUP($D$2,Data!A:G,3,FALSE),$G$3,VLOOKUP($D$2,Data!A:H,5,FALSE)))) -> On qualifying purchases made with your Synchrony Bank credit card. Interest will be charged to your account from the purchase date if the promotional purchase is not paid in full within 6 months. $29 Account Activation fee may apply. Fixed payments of 2.50% of the highest balance applicable to this promo purchase until paid in full. See reverse side for additional information
M23: Optional: Add restrictions
C24: =CONCATENATE(VLOOKUP($D$3,Data!A:G,2,FALSE)," Plan ",D3) -> 3.99% APR Until Paid in Full* Plan 940
C25: =IF($D$3="none"," ",IF(VLOOKUP($G$3,'Program List'!$E$1:$F$24,2,FALSE)=1,CONCATENATE(VLOOKUP($D$3,Data!A:G,4,FALSE),$G$3,VLOOKUP($D$3,Data!A:H,5,FALSE)),CONCATENATE(VLOOKUP($D$3,Data!A:G,3,FALSE),$G$3,VLOOKUP($D$3,Data!A:H,5,FALSE)))) -> On qualifying purchases made with your Synchrony Bank credit card. $29 Account Activation fee may apply. Fixed monthly payments required for 94 months. See reverse side for additional information.
M27: Optional: Add restrictions
C28: =CONCATENATE(VLOOKUP($D$4,Data!A:G,2,FALSE)," Plan ",D4) -> No Interest for 25 Months* Plan 930
C29: =IF($D$4="none"," ",IF(VLOOKUP($G$3,'Program List'!$E$1:$F$24,2,FALSE)=1,CONCATENATE(VLOOKUP($D$4,Data!A:G,4,FALSE),$G$3,VLOOKUP($D$4,Data!A:H,5,FALSE)),CONCATENATE(VLOOKUP($D$4,Data!A:G,3,FALSE),$G$3,VLOOKUP($D$4,Data!A:H,5,FALSE)))) -> On qualifying purchases made with your Synchrony Bank credit card. $29 Account Activation fee may apply. Equal monthly payments required for 25 Months. See reverse side for additional information
M31: Optional: Add restrictions
C32: =CONCATENATE(VLOOKUP($D$5,Data!A:G,2,FALSE)," Plan ",D5) -> 7.99% APR Until Paid in Full* Plan 991
C33: =IF($D$5="none"," ",IF(VLOOKUP($G$3,'Program List'!$E$1:$F$24,2,FALSE)=1,CONCATENATE(VLOOKUP($D$5,Data!A:G,4,FALSE),$G$3,VLOOKUP($D$5,Data!A:H,5,FALSE)),CONCATENATE(VLOOKUP($D$5,Data!A:G,3,FALSE),$G$3,VLOOKUP($D$5,Data!A:H,5,FALSE)))) -> On qualifying purchases made with your Synchrony Bank credit card. $29 Account Activation fee may apply. Fixed monthly payments required for 28 months. See reverse side for additional information.
M35: Optional: Add restrictions
C36: =CONCATENATE(VLOOKUP($D$6,Data!A:G,2,FALSE)," Plan ",D6) -> 5.99% APR Until Paid in Full* Plan 950
C37: =IF($D$6="none"," ",IF(VLOOKUP($G$3,'Program List'!$E$1:$F$24,2,FALSE)=1,CONCATENATE(VLOOKUP($D$6,Data!A:G,4,FALSE),$G$3,VLOOKUP($D$6,Data!A:H,5,FALSE)),CONCATENATE(VLOOKUP($D$6,Data!A:G,3,FALSE),$G$3,VLOOKUP($D$6,Data!A:H,5,FALSE)))) -> On qualifying purchases made with your Synchrony Bank credit card. $29 Account Activation fee may apply. Fixed monthly payments required for 82 months. See reverse side for additional information.
C39: Supporting Promotional Disclosures
C42: =IF(D2="None"," ",CONCATENATE(VLOOKUP($D$2,Data!A:H,7,FALSE),$H$2,VLOOKUP($D$2,Data!A:H,8,FALSE))) -> Plan 920: No interest will be charged on the promo balance if you pay it off, in full, within the promo period. If you do not, interest will be charged on the promo balance from the purchase date. Fixed monthly payments are required equal to 2.5% of the highest balance applicable to this promo purchase until paid in full. The fixed monthly payment will be rounded to the next highest whole dollar and may be higher than the minimum payment that would be required if the purchase was a non-promotional purchase. The required minimum monthly payments may or may not pay off the promo balance before the end of the promo period, depending on purchase amount, promo length and payment allocation. Regular account terms apply to non-promo purchases and, after promo period ends, to the promo balance except that the fixed monthly payment will continue to be required until the promotion is paid in full. New accounts as of 7/16/24: Purchase APR is 26.99%; Minimum Interest Charge is $2. One-time Account Activation Fee of $29 charged at time first purchase posts to account. Existing cardholders: See your credit card agreement terms. Subject to credit approval.
C45: =IF(D3="None"," ",CONCATENATE(VLOOKUP($D$3,Data!A:H,7,FALSE),$H$2,VLOOKUP($D$3,Data!A:H,8,FALSE))) -> Plan 940: Interest will be charged on the promo purchase from the purchase date at a reduced 3.99% APR, and fixed monthly payments are required until paid in full. These payments are equal to 1.25% of initial total promo purchase amount, rounded up to the next whole dollar. These payments may be higher than the payments that would be required if this purchase was a non-promo purchase. During the last month(s) of the promo period the required monthly payment may be reduced due to the prior months' rounding. Regular account terms apply to non-promotional purchases. New Accounts as of 7/16/24: Purchase APR 26.99%. Min Interest Charge $2. One-time Account Activation Fee of $29 charged at time first purchase posts to account. Existing cardholders: See your credit card agreement terms. Subject to credit approval.
C48: =IF(D4="None"," ",CONCATENATE(VLOOKUP($D$4,Data!A:H,7,FALSE),$H$2,VLOOKUP($D$4,Data!A:H,8,FALSE))) -> Plan 930: No interest will be charged, and equal monthly payments are required on promo purchase until it is paid in full. The payments equal the initial total promo purchase amount divided by the number of months in the promo period, rounded up to the next whole dollar. These payments may be higher than the payments that would be required if this purchase was a non-promo purchase. During the last month(s) of the promo period the required monthly payment may be reduced due to the prior months’ rounding. Regular account terms apply to non-promo purchases. New Accounts as of 7/16/24: Purchase APR is 26.99%; Minimum Interest Charge is $2. One-time Account Activation Fee of $29 charged at time first purchase posts to account. Existing cardholders: See your credit card agreement terms. Subject to credit approval.
C51: =IF(D5="None"," ",CONCATENATE(VLOOKUP($D$5,Data!A:H,7,FALSE),$H$2,VLOOKUP($D$5,Data!A:H,8,FALSE))) -> Plan 991: Interest will be charged on the promo purchase from the purchase date at a reduced 7.99% APR, and fixed monthly payments are required until paid in full. These payments are equal to 4.00% of initial total promo purchase amount, rounded up to the next whole dollar. These payments may be higher than the payments that would be required if the purchase was a non-promo purchase. During the last month(s) of the promo period the required monthly payment may be reduced due to the prior months' rounding. Regular account terms apply to non-promotional purchases. New Accounts as of 7/16/24: Purchase APR 26.99%. Min Interest Charge $2. One-time Account Activation Fee of $29 charged at time first purchase posts to account. Existing cardholders: See your credit card agreement terms. Subject to credit approval.
C54: =IF(D6="None"," ",CONCATENATE(VLOOKUP($D$6,Data!A:H,7,FALSE),$H$2,VLOOKUP($D$6,Data!A:H,8,FALSE))) -> Plan 950: Interest will be charged on the promo purchase from the purchase date at a reduced 5.99% APR, and fixed monthly payments are required until paid in full. These payments are equal to 1.50% of initial total promo purchase amount, rounded up to the next whole dollar. These payments may be higher than the payments that would be required if the purchase was a non-promo purchase. During the last month(s) of the promo period the required monthly payment may be reduced due to the prior months' rounding. Regular account terms apply to non-promotional purchases. New Accounts as of 7/16/24: Purchase APR 26.99%. Min Interest Charge $2. One-time Account Activation Fee of $29 charged at time first purchase posts to account. Existing cardholders: See your credit card agreement terms. Subject to credit approval.

Sheet 4 Options
B2: Option 1 | D2: 920 | F2: Today's Date
B3: Option 2 | D3: 931 | F3: Program: | G3: Synchrony Bank
B4: Option 3 | D4: 980
B5: Option 4 | D5: 991
B16: Promotion Options
B17: Synchrony® Bank provides you with a variety of promotional offers designed to fit specific financial needs. The promotional options available to you are listed below. For additional disclosure information, please see the reverse side.
C20: =CONCATENATE(VLOOKUP($D$2,Data!A:G,2,FALSE)," Plan ",D2) -> No Interest if Paid in Full within 6 Months* Plan 920
C21: =IF($D$2="none"," ",IF(VLOOKUP($G$3,'Program List'!$E$1:$F$24,2,FALSE)=1,CONCATENATE(VLOOKUP($D$2,Data!A:G,4,FALSE),$G$3,VLOOKUP($D$2,Data!A:H,5,FALSE)),CONCATENATE(VLOOKUP($D$2,Data!A:G,3,FALSE),$G$3,VLOOKUP($D$2,Data!A:H,5,FALSE)))) -> On qualifying purchases made with your Synchrony Bank credit card. Interest will be charged to your account from the purchase date if the promotional purchase is not paid in full within 6 months. $29 Account Activation fee may apply. Fixed payments of 2.50% of the highest balance applicable to this promo purchase until paid in full. See reverse side for additional information
M24: Optional: Add restrictions
C25: =CONCATENATE(VLOOKUP($D$3,Data!A:G,2,FALSE)," Plan ",D3) -> No Interest for 36 Months* Plan 931
C26: =IF($D$3="none"," ",IF(VLOOKUP($G$3,'Program List'!$E$1:$F$24,2,FALSE)=1,CONCATENATE(VLOOKUP($D$3,Data!A:G,4,FALSE),$G$3,VLOOKUP($D$3,Data!A:H,5,FALSE)),CONCATENATE(VLOOKUP($D$3,Data!A:G,3,FALSE),$G$3,VLOOKUP($D$3,Data!A:H,5,FALSE)))) -> On qualifying purchases made with your Synchrony Bank credit card. $29 Account Activation fee may apply. Equal monthly payments required for 36 Months. See reverse side for additional information
M29: Optional: Add restrictions
C30: =CONCATENATE(VLOOKUP($D$4,Data!A:G,2,FALSE)," Plan ",D4) -> 5.99% APR Until Paid in Full* Plan 980
C31: =IF($D$4="none"," ",IF(VLOOKUP($G$3,'Program List'!$E$1:$F$24,2,FALSE)=1,CONCATENATE(VLOOKUP($D$4,Data!A:G,4,FALSE),$G$3,VLOOKUP($D$4,Data!A:H,5,FALSE)),CONCATENATE(VLOOKUP($D$4,Data!A:G,3,FALSE),$G$3,VLOOKUP($D$4,Data!A:H,5,FALSE)))) -> On qualifying purchases made with your Synchrony Bank credit card. $29 Account Activation fee may apply. Fixed monthly payments required for 37 months. See reverse side for additional information.
M34: Optional: Add restrictions
C35: =CONCATENATE(VLOOKUP($D$5,Data!A:G,2,FALSE)," Plan ",D5) -> 7.99% APR Until Paid in Full* Plan 991
C36: =IF($D$5="none"," ",IF(VLOOKUP($G$3,'Program List'!$E$1:$F$24,2,FALSE)=1,CONCATENATE(VLOOKUP($D$5,Data!A:G,4,FALSE),$G$3,VLOOKUP($D$5,Data!A:H,5,FALSE)),CONCATENATE(VLOOKUP($D$5,Data!A:G,3,FALSE),$G$3,VLOOKUP($D$5,Data!A:H,5,FALSE)))) -> On qualifying purchases made with your Synchrony Bank credit card. $29 Account Activation fee may apply. Fixed monthly payments required for 28 months. See reverse side for additional information.
C39: Supporting Promotional Disclosures
C42: =IF(D2="None"," ",CONCATENATE(VLOOKUP($D$2,Data!A:H,7,FALSE),$H$2,VLOOKUP($D$2,Data!A:H,8,FALSE))) -> Plan 920: No interest will be charged on the promo balance if you pay it off, in full, within the promo period. If you do not, interest will be charged on the promo balance from the purchase date. Fixed monthly payments are required equal to 2.5% of the highest balance applicable to this promo purchase until paid in full. The fixed monthly payment will be rounded to the next highest whole dollar and may be higher than the minimum payment that would be required if the purchase was a non-promotional purchase. The required minimum monthly payments may or may not pay off the promo balance before the end of the promo period, depending on purchase amount, promo length and payment allocation. Regular account terms apply to non-promo purchases and, after promo period ends, to the promo balance except that the fixed monthly payment will continue to be required until the promotion is paid in full. New accounts as of 7/16/24: Purchase APR is 26.99%; Minimum Interest Charge is $2. One-time Account Activation Fee of $29 charged at time first purchase posts to account. Existing cardholders: See your credit card agreement terms. Subject to credit approval.
C45: =IF(D3="None"," ",CONCATENATE(VLOOKUP($D$3,Data!A:H,7,FALSE),$H$2,VLOOKUP($D$3,Data!A:H,8,FALSE))) -> Plan 931: No interest will be charged, and equal monthly payments are required on promo purchase until it is paid in full. The payments equal the initial total promo purchase amount divided by the number of months in the promo period, rounded up to the next whole dollar. These payments may be higher than the payments that would be required if this purchase was a non-promo purchase. During the last month(s) of the promo period the required monthly payment may be reduced due to the prior months’ rounding. Regular account terms apply to non-promo purchases. New Accounts as of 7/16/24: Purchase APR is 26.99%; Minimum Interest Charge is $2. One-time Account Activation Fee of $29 charged at time first purchase posts to account. Existing cardholders: See your credit card agreement terms. Subject to credit approval.
C48: =IF(D4="None"," ",CONCATENATE(VLOOKUP($D$4,Data!A:H,7,FALSE),$H$2,VLOOKUP($D$4,Data!A:H,8,FALSE))) -> Plan 980: Interest will be charged on the promo purchase from the purchase date at a reduced 5.99% APR, and fixed monthly payments are required until paid in full. These payments are equal to 3.00% of initial total promo purchase amount, rounded up to the next whole dollar. These payments may be higher than the payments that would be required if the purchase was a non-promo purchase. During the last month(s) of the promo period the required monthly payment may be reduced due to the prior months' rounding. Regular account terms apply to non-promotional purchases.New Accounts as of 7/16/24: Purchase APR 26.99%. Min Interest Charge $2. One-time Account Activation Fee of $29 charged at time first purchase posts to account. Existing cardholders: See your credit card agreement terms. Subject to credit approval.
C51: =IF(D5="None"," ",CONCATENATE(VLOOKUP($D$5,Data!A:H,7,FALSE),$H$2,VLOOKUP($D$5,Data!A:H,8,FALSE))) -> Plan 991: Interest will be charged on the promo purchase from the purchase date at a reduced 7.99% APR, and fixed monthly payments are required until paid in full. These payments are equal to 4.00% of initial total promo purchase amount, rounded up to the next whole dollar. These payments may be higher than the payments that would be required if the purchase was a non-promo purchase. During the last month(s) of the promo period the required monthly payment may be reduced due to the prior months' rounding. Regular account terms apply to non-promotional purchases. New Accounts as of 7/16/24: Purchase APR 26.99%. Min Interest Charge $2. One-time Account Activation Fee of $29 charged at time first purchase posts to account. Existing cardholders: See your credit card agreement terms. Subject to credit approval.

Sheet 3 Options
B2: Option 1 | D2: 920 | F2: Today's Date
B3: Option 2 | D3: 971 | F3: Program: | G3: Synchrony Bank
B4: Option 3 | D4: 930
B16: Promotion Options
B17: Synchrony® Bank provides you with a variety of promotional offers designed to fit specific financial needs. The promotional options available to you are listed below. For additional disclosure information, please see the reverse side.
C20: =CONCATENATE(VLOOKUP($D$2,Data!A:G,2,FALSE)," Plan ",D2) -> No Interest if Paid in Full within 6 Months* Plan 920
C21: =IF($D$2="none"," ",IF(VLOOKUP($G$3,'Program List'!$E$1:$F$24,2,FALSE)=1,CONCATENATE(VLOOKUP($D$2,Data!A:G,4,FALSE),$G$3,VLOOKUP($D$2,Data!A:H,5,FALSE)),CONCATENATE(VLOOKUP($D$2,Data!A:G,3,FALSE),$G$3,VLOOKUP($D$2,Data!A:H,5,FALSE)))) -> On qualifying purchases made with your Synchrony Bank credit card. Interest will be charged to your account from the purchase date if the promotional purchase is not paid in full within 6 months. $29 Account Activation fee may apply. Fixed payments of 2.50% of the highest balance applicable to this promo purchase until paid in full. See reverse side for additional information
M24: Optional: Add restrictions
C25: =CONCATENATE(VLOOKUP($D$3,Data!A:G,2,FALSE)," Plan ",D3) -> 7.99% APR Until Paid in Full* Plan 971
C26: =IF($D$3="none"," ",IF(VLOOKUP($G$3,'Program List'!$E$1:$F$24,2,FALSE)=1,CONCATENATE(VLOOKUP($D$3,Data!A:G,4,FALSE),$G$3,VLOOKUP($D$3,Data!A:H,5,FALSE)),CONCATENATE(VLOOKUP($D$3,Data!A:G,3,FALSE),$G$3,VLOOKUP($D$3,Data!A:H,5,FALSE)))) -> On qualifying purchases made with your Synchrony Bank credit card. $29 Account Activation fee may apply. Fixed monthly payments required for 61 months. See reverse side for additional information.
M29: Optional: Add restrictions
C30: =CONCATENATE(VLOOKUP($D$4,Data!A:G,2,FALSE)," Plan ",D4) -> No Interest for 25 Months* Plan 930
C31: =IF($D$4="none"," ",IF(VLOOKUP($G$3,'Program List'!$E$1:$F$24,2,FALSE)=1,CONCATENATE(VLOOKUP($D$4,Data!A:G,4,FALSE),$G$3,VLOOKUP($D$4,Data!A:H,5,FALSE)),CONCATENATE(VLOOKUP($D$4,Data!A:G,3,FALSE),$G$3,VLOOKUP($D$4,Data!A:H,5,FALSE)))) -> On qualifying purchases made with your Synchrony Bank credit card. $29 Account Activation fee may apply. Equal monthly payments required for 25 Months. See reverse side for additional information
C34: Supporting Promotional Disclosures
C37: =IF(D2="None"," ",CONCATENATE(VLOOKUP($D$2,Data!A:H,7,FALSE),$H$2,VLOOKUP($D$2,Data!A:H,8,FALSE))) -> Plan 920: No interest will be charged on the promo balance if you pay it off, in full, within the promo period. If you do not, interest will be charged on the promo balance from the purchase date. Fixed monthly payments are required equal to 2.5% of the highest balance applicable to this promo purchase until paid in full. The fixed monthly payment will be rounded to the next highest whole dollar and may be higher than the minimum payment that would be required if the purchase was a non-promotional purchase. The required minimum monthly payments may or may not pay off the promo balance before the end of the promo period, depending on purchase amount, promo length and payment allocation. Regular account terms apply to non-promo purchases and, after promo period ends, to the promo balance except that the fixed monthly payment will continue to be required until the promotion is paid in full. New accounts as of 7/16/24: Purchase APR is 26.99%; Minimum Interest Charge is $2. One-time Account Activation Fee of $29 charged at time first purchase posts to account. Existing cardholders: See your credit card agreement terms. Subject to credit approval.
C40: =IF(D3="None"," ",CONCATENATE(VLOOKUP($D$3,Data!A:H,7,FALSE),$H$2,VLOOKUP($D$3,Data!A:H,8,FALSE))) -> Plan 971: Interest will be charged on the promo purchase from the purchase date at a reduced 7.99% APR, and fixed monthly payments are required until paid in full. These payments are equal to 2.00% of initial total promo purchase amount, rounded up to the next whole dollar. These payments may be higher than the payments that would be required if the purchase was a non-promo purchase. During the last month(s) of the promo period the required monthly payment may be reduced due to the prior months' rounding. Regular account terms apply to non-promotional purchases. New Accounts as of 7/16/24: Purchase APR 26.99%. Min Interest Charge $2. One-time Account Activation Fee of $29 charged at time first purchase posts to account. Existing cardholders: See your credit card agreement terms. Subject to credit approval.
C43: =IF(D4="None"," ",CONCATENATE(VLOOKUP($D$4,Data!A:H,7,FALSE),$H$2,VLOOKUP($D$4,Data!A:H,8,FALSE))) -> Plan 930: No interest will be charged, and equal monthly payments are required on promo purchase until it is paid in full. The payments equal the initial total promo purchase amount divided by the number of months in the promo period, rounded up to the next whole dollar. These payments may be higher than the payments that would be required if this purchase was a non-promo purchase. During the last month(s) of the promo period the required monthly payment may be reduced due to the prior months’ rounding. Regular account terms apply to non-promo purchases. New Accounts as of 7/16/24: Purchase APR is 26.99%; Minimum Interest Charge is $2. One-time Account Activation Fee of $29 charged at time first purchase posts to account. Existing cardholders: See your credit card agreement terms. Subject to credit approval.

Sheet 2 Option
B2: Plan 1 | D2: 920 | F2: Today's Date
B3: Plan 2 | D3: 992 | F3: Program: | G3: Synchrony Bank
B17: Promotion Options
B18: Synchrony® Bank provides you with a variety of promotional offers designed to fit specific financial needs. The promotional options available to you are listed below. For additional disclosure information, please see the reverse side.
C20: =CONCATENATE(VLOOKUP($D$2,Data!A:G,2,FALSE)," Plan ",D2) -> No Interest if Paid in Full within 6 Months* Plan 920
C21: =IF($D$2="none"," ",IF(VLOOKUP($G$3,'Program List'!$E$1:$F$24,2,FALSE)=1,CONCATENATE(VLOOKUP($D$2,Data!A:G,4,FALSE),$G$3,VLOOKUP($D$2,Data!A:H,5,FALSE)),CONCATENATE(VLOOKUP($D$2,Data!A:G,3,FALSE),$G$3,VLOOKUP($D$2,Data!A:H,5,FALSE)))) -> On qualifying purchases made with your Synchrony Bank credit card. Interest will be charged to your account from the purchase date if the promotional purchase is not paid in full within 6 months. $29 Account Activation fee may apply. Fixed payments of 2.50% of the highest balance applicable to this promo purchase until paid in full. See reverse side for additional information
M24: Optional: Add restrictions
C25: =CONCATENATE(VLOOKUP($D$3,Data!A:G,2,FALSE)," Plan ",D3) -> 9.99% APR Until Paid in Full Plan 992
C26: =IF($D$3="none"," ",IF(VLOOKUP($G$3,'Program List'!$E$1:$F$24,2,FALSE)=1,CONCATENATE(VLOOKUP($D$3,Data!A:G,4,FALSE),$G$3,VLOOKUP($D$3,Data!A:H,5,FALSE)),CONCATENATE(VLOOKUP($D$3,Data!A:G,3,FALSE),$G$3,VLOOKUP($D$3,Data!A:H,5,FALSE)))) -> On qualifying purchases made with your Synchrony Bank credit card. $29 Account Activation fee may apply. Fixed monthly payments required for 28 months. See reverse side for additional information.
C38: Supporting Promotional Disclosures
C41: =IF(D2="None"," ",CONCATENATE(VLOOKUP($D$2,Data!A:H,7,FALSE),$H$2,VLOOKUP($D$2,Data!A:H,8,FALSE))) -> Plan 920: No interest will be charged on the promo balance if you pay it off, in full, within the promo period. If you do not, interest will be charged on the promo balance from the purchase date. Fixed monthly payments are required equal to 2.5% of the highest balance applicable to this promo purchase until paid in full. The fixed monthly payment will be rounded to the next highest whole dollar and may be higher than the minimum payment that would be required if the purchase was a non-promotional purchase. The required minimum monthly payments may or may not pay off the promo balance before the end of the promo period, depending on purchase amount, promo length and payment allocation. Regular account terms apply to non-promo purchases and, after promo period ends, to the promo balance except that the fixed monthly payment will continue to be required until the promotion is paid in full. New accounts as of 7/16/24: Purchase APR is 26.99%; Minimum Interest Charge is $2. One-time Account Activation Fee of $29 charged at time first purchase posts to account. Existing cardholders: See your credit card agreement terms. Subject to credit approval.
C44: =IF(D3="None"," ",CONCATENATE(VLOOKUP($D$3,Data!A:H,7,FALSE),$H$3,VLOOKUP($D$3,Data!A:H,8,FALSE))) -> Plan 992: Interest will be charged on the promo purchase from the purchase date at a reduced 9.99% APR, and fixed monthly payments are required until paid in full. These payments are equal to 4.00% of initial total promo purchase amount, rounded up to the next whole dollar. These payments may be higher than the payments that would be required if the purchase was a non-promo purchase. During the last month(s) of the promo period the required monthly payment may be reduced due to the prior months' rounding. Regular account terms apply to non-promotional purchases. New Accounts as of 7/16/24: Purchase APR 26.99%. Min Interest Charge $2. One-time Account Activation Fee of $29 charged at time first purchase posts to account. Existing cardholders: See your credit card agreement terms. Subject to credit approval.

Sheet Data
A1: =CONCATENATE("'",'4 Options'!H2) -> '
A2: Plan Number | B2: Main Headline | C2: Subheadline first part | D2: Sub Headline first Part HI | E2: Sub Headline 2nd Part | F2: Sub Headline 2 | G2: Supporting Disclosures
A3: 920 | B3: No Interest if Paid in Full within 6 Months* | C3: On qualifying purchases made with your | D3: On Purchases of $1,000 or more with your | E3: credit card. Interest will be charged to your account from the purchase date if the promotional purchase is not paid in full within 6 months. $29 Account Activation fee may apply. Fixed payments of 2.50% of the highest balance applicable to this promo purchase until paid in full. See reverse side for additional information | G3: Plan 920: No interest will be charged on the promo balance if you pay it off, in full, within the promo period. If you do not, interest will be charged on the promo balance from the purchase date. Fixed monthly payments are required equal to 2.5% of the highest balance applicable to this promo purchase until paid in full. The fixed monthly payment will be rounded to the next highest whole dollar and may be higher than the minimum payment that would be required if the purchase was a non-promotional purchase. The required minimum monthly payments may or may not pay off the promo balance before the end of the promo period, depending on purchase amount, promo length and payment allocation. Regular account terms apply to non-promo purchases and, after promo period ends, to the promo balance except that the fixed monthly payment will continue to be required until the promotion is paid in full. New accounts as of 7/16/24: | H3: Purchase APR is 26.99%; Minimum Interest Charge is $2. One-time Account Activation Fee of $29 charged at time first purchase posts to account. Existing cardholders: See your credit card agreement terms. Subject to credit approval.
A4: 921 | B4: No Interest if Paid in Full within 9 Months* | C4: On qualifying purchases made with your | D4: On Purchases of $1,000 or more with your | E4: credit card. Interest will be charged to your account from the purchase date if the promotional purchase is not paid in full within 9 months. $29 Account Activation fee may apply. Fixed payments of 2.50% of the highest balance applicable to this promo purchase until paid in full. See reverse side for additional information | G4: Plan 921: No interest will be charged on the promo balance if you pay it off, in full, within the promo period. If you do not, interest will be charged on the promo balance from the purchase date. Fixed monthly payments are required equal to 2.5% of the highest balance applicable to this promo purchase until paid in full. The fixed monthly payment will be rounded to the next highest whole dollar and may be higher than the minimum payment that would be required if the purchase was a non-promotional purchase. The required minimum monthly payments may or may not pay off the promo balance before the end of the promo period, depending on purchase amount, promo length and payment allocation. Regular account terms apply to non-promo purchases and, after promo period ends, to the promo balance except that the fixed monthly payment will continue to be required until the promotion is paid in full. New accounts as of 7/16/24: | H4: Purchase APR is 26.99%; Minimum Interest Charge is $2. One-time Account Activation Fee of $29 charged at time first purchase posts to account. Existing cardholders: See your credit card agreement terms. Subject to credit approval.
A5: 922 | B5: No Interest if Paid in Full within 12 Months* | C5: On qualifying purchases made with your | D5: On Purchases of $1,000 or more with your | E5: credit card. Interest will be charged to your account from the purchase date if the promotional purchase is not paid in full within 12 months. $29 Account Activation fee may apply. Fixed payments of 2.50% of the highest balance applicable to this promo purchase until paid in full. See reverse side for additional information | G5: Plan 922: No interest will be charged on the promo balance if you pay it off, in full, within the promo period. If you do not, interest will be charged on the promo balance from the purchase date. Fixed monthly payments are required equal to 2.5% of the highest balance applicable to this promo purchase until paid in full. The fixed monthly payment will be rounded to the next highest whole dollar and may be higher than the minimum payment that would be required if the purchase was a non-promotional purchase. The required minimum monthly payments may or may not pay off the promo balance before the end of the promo period, depending on purchase amount, promo length and payment allocation. Regular account terms apply to non-promo purchases and, after promo period ends, to the promo balance except that the fixed monthly payment will continue to be required until the promotion is paid in full. New accounts as of 7/16/24: | H5: Purchase APR is 26.99%; Minimum Interest Charge is $2. One-time Account Activation Fee of $29 charged at time first purchase posts to account. Existing cardholders: See your credit card agreement terms. Subject to credit approval.
A6: 923 | B6: No Interest if Paid in Full within 15 Months* | C6: On qualifying purchases made with your | D6: On Purchases of $1,000 or more with your | E6: credit card. Interest will be charged to your account from the purchase date if the promotional purchase is not paid in full within 15 months. $29 Account Activation fee may apply. Fixed payments of 2.50% of the highest balance applicable to this promo purchase until paid in full. See reverse side for additional information | G6: Plan 923: No interest will be charged on the promo balance if you pay it off, in full, within the promo period. If you do not, interest will be charged on the promo balance from the purchase date. Fixed monthly payments are required equal to 2.5% of the highest balance applicable to this promo purchase until paid in full. The fixed monthly payment will be rounded to the next highest whole dollar and may be higher than the minimum payment that would be required if the purchase was a non-promotional purchase. The required minimum monthly payments may or may not pay off the promo balance before the end of the promo period, depending on purchase amount, promo length and payment allocation. Regular account terms apply to non-promo purchases and, after promo period ends, to the promo balance except that the fixed monthly payment will continue to be required until the promotion is paid in full. New accounts as of 7/16/24: | H6: Purchase APR is 26.99%; Minimum Interest Charge is $2. One-time Account Activation Fee of $29 charged at time first purchase posts to account. Existing cardholders: See your credit card agreement terms. Subject to credit approval.
A7: 924 | B7: No Interest if Paid in Full within 18 Months* | C7: On qualifying purchases made with your | D7: On Purchases of $1,000 or more with your | E7: credit card. Interest will be charged to your account from the purchase date if the promotional purchase is not paid in full within 18 months. $29 Account Activation fee may apply. Fixed payments of 2.50% of the highest balance applicable to this promo purchase until paid in full. See reverse side for additional information | G7: Plan 924: No interest will be charged on the promo balance if you pay it off, in full, within the promo period. If you do not, interest will be charged on the promo balance from the purchase date. Fixed monthly payments are required equal to 2.5% of the highest balance applicable to this promo purchase until paid in full. The fixed monthly payment will be rounded to the next highest whole dollar and may be higher than the minimum payment that would be required if the purchase was a non-promotional purchase. The required minimum monthly payments may or may not pay off the promo balance before the end of the promo period, depending on purchase amount, promo length and payment allocation. Regular account terms apply to non-promo purchases and, after promo period ends, to the promo balance except that the fixed monthly payment will continue to be required until the promotion is paid in full. New accounts as of 7/16/24: | H7: Purchase APR is 26.99%; Minimum Interest Charge is $2. One-time Account Activation Fee of $29 charged at time first purchase posts to account. Existing cardholders: See your credit card agreement terms. Subject to credit approval.
A8: 925 | B8: No Interest if Paid in Full within 24 Months* | C8: On qualifying purchases made with your | D8: On Purchases of $1,000 or more with your | E8: credit card. Interest will be charged to your account from the purchase date if the promotional purchase is not paid in full within 24 months. $29 Account Activation fee may apply. Fixed payments of 2.50% of the highest balance applicable to this promo purchase until paid in full. See reverse side for additional information | G8: Plan 925: No interest will be charged on the promo balance if you pay it off, in full, within the promo period. If you do not, interest will be charged on the promo balance from the purchase date. Fixed monthly payments are required equal to 2.5% of the highest balance applicable to this promo purchase until paid in full. The fixed monthly payment will be rounded to the next highest whole dollar and may be higher than the minimum payment that would be required if the purchase was a non-promotional purchase. The required minimum monthly payments may or may not pay off the promo balance before the end of the promo period, depending on purchase amount, promo length and payment allocation. Regular account terms apply to non-promo purchases and, after promo period ends, to the promo balance except that the fixed monthly payment will continue to be required until the promotion is paid in full. New accounts as of 7/16/24: | H8: Purchase APR is 26.99%; Minimum Interest Charge is $2. One-time Account Activation Fee of $29 charged at time first purchase posts to account. Existing cardholders: See your credit card agreement terms. Subject to credit approval.
A9: 930 | B9: No Interest for 25 Months* | C9: On qualifying purchases made with your | D9: On Purchases of $1,000 or more with your | E9: credit card. $29 Account Activation fee may apply. Equal monthly payments required for 25 Months. See reverse side for additional information | G9: Plan 930: No interest will be charged, and equal monthly payments are required on promo purchase until it is paid in full. The payments equal the initial total promo purchase amount divided by the number of months in the promo period, rounded up to the next whole dollar. These payments may be higher than the payments that would be required if this purchase was a non-promo purchase. During the last month(s) of the promo period the required monthly payment may be reduced due to the prior months’ rounding. Regular account terms apply to non-promo purchases. New Accounts as of 7/16/24: | H9: Purchase APR is 26.99%; Minimum Interest Charge is $2. One-time Account Activation Fee of $29 charged at time first purchase posts to account. Existing cardholders: See your credit card agreement terms. Subject to credit approval.
A10: 931 | B10: No Interest for 36 Months* | C10: On qualifying purchases made with your | D10: On Purchases of $1,000 or more with your | E10: credit card. $29 Account Activation fee may apply. Equal monthly payments required for 36 Months. See reverse side for additional information | G10: Plan 931: No interest will be charged, and equal monthly payments are required on promo purchase until it is paid in full. The payments equal the initial total promo purchase amount divided by the number of months in the promo period, rounded up to the next whole dollar. These payments may be higher than the payments that would be required if this purchase was a non-promo purchase. During the last month(s) of the promo period the required monthly payment may be reduced due to the prior months’ rounding. Regular account terms apply to non-promo purchases. New Accounts as of 7/16/24: | H10: Purchase APR is 26.99%; Minimum Interest Charge is $2. One-time Account Activation Fee of $29 charged at time first purchase posts to account. Existing cardholders: See your credit card agreement terms. Subject to credit approval.
A11: 932 | B11: No Interest for 48 Months* | C11: On qualifying purchases made with your | D11: On Purchases of $1,000 or more with your | E11: credit card. $29 Account Activation fee may apply. Equal monthly payments required for 48 Months. See reverse side for additional information | G11: Plan 932: No interest will be charged, and equal monthly payments are required on promo purchase until it is paid in full. The payments equal the initial total promo purchase amount divided by the number of months in the promo period, rounded up to the next whole dollar. These payments may be higher than the payments that would be required if this purchase was a non-promo purchase. During the last month(s) of the promo period the required monthly payment may be reduced due to the prior months’ rounding. Regular account terms apply to non-promo purchases. New Accounts as of 7/16/24: | H11: Purchase APR is 26.99%; Minimum Interest Charge is $2. One-time Account Activation Fee of $29 charged at time first purchase posts to account. Existing cardholders: See your credit card agreement terms. Subject to credit approval.
A12: 933 | B12: No Interest for 60 Months* | C12: On qualifying purchases made with your | D12: On Purchases of $1,000 or more with your | E12: credit card. $29 Account Activation fee may apply. Equal monthly payments required for 60 Months. See reverse side for additional information | F12: For new accountholders: after the promotion ends, an APR of 26.99% will apply. | G12: Plan 933: No interest will be charged, and equal monthly payments are required on promo purchase until it is paid in full. The payments equal the initial total promo purchase amount divided by the number of months in the promo period, rounded up to the next whole dollar. These payments may be higher than the payments that would be required if this purchase was a non-promo purchase. During the last month(s) of the promo period the required monthly payment may be reduced due to the prior months’ rounding. Regular account terms apply to non-promo purchases. New Accounts as of 7/16/24: : | H12: Purchase APR is 26.99%; Minimum Interest Charge is $2. One-time Account Activation Fee of $29 charged at time first purchase posts to account. Existing cardholders: See your credit card agreement terms. Subject to credit approval.
A13: 934 | B13: No Interest for 72 Months* | C13: On qualifying purchases made with your | D13: On Purchases of $1,000 or more with your | E13: credit card. $29 Account Activation fee may apply. Equal monthly payments required for 72 Months. See reverse side for additional information | F13: For new accountholders: after the promotion ends, an APR of 26.99% will apply. | G13: Plan 934: No interest will be charged, and equal monthly payments are required on promo purchase until it is paid in full. The payments equal the initial total promo purchase amount divided by the number of months in the promo period, rounded up to the next whole dollar. These payments may be higher than the payments that would be required if this purchase was a non-promo purchase. During the last month(s) of the promo period the required monthly payment may be reduced due to the prior months’ rounding. Regular account terms apply to non-promo purchases. New Accounts as of 7/16/24: | H13: Purchase APR is 26.99%; Minimum Interest Charge is $2. One-time Account Activation Fee of $29 charged at time first purchase posts to account. Existing cardholders: See your credit card agreement terms. Subject to credit approval.
A14: 940 | B14: 3.99% APR Until Paid in Full* | C14: On qualifying purchases made with your | D14: On Purchases of $1,000 or more with your | E14: credit card. $29 Account Activation fee may apply. Fixed monthly payments required for 94 months. See reverse side for additional information. | F14: For new accountholders: after the promotion ends, an APR of 26.99% will apply. | G14: Plan 940: Interest will be charged on the promo purchase from the purchase date at a reduced 3.99% APR, and fixed monthly payments are required until paid in full. These payments are equal to 1.25% of initial total promo purchase amount, rounded up to the next whole dollar. These payments may be higher than the payments that would be required if this purchase was a non-promo purchase. During the last month(s) of the promo period the required monthly payment may be reduced due to the prior months' rounding. Regular account terms apply to non-promotional purchases. New Accounts as of 7/16/24: | H14: Purchase APR 26.99%. Min Interest Charge $2. One-time Account Activation Fee of $29 charged at time first purchase posts to account. Existing cardholders: See your credit card agreement terms. Subject to credit approval.
A15: 941 | B15: 5.99% APR Until Paid in Full* | C15: On qualifying purchases made with your | D15: On Purchases of $1,000 or more with your | E15: credit card. $29 Account Activation fee may apply. Fixed monthly payments required for 102 months. See reverse side for additional information. | F15: For new accountholders: after the promotion ends, an APR of 26.99% will apply. | G15: Plan 941: Interest will be charged on the promo purchase from the purchase date at a reduced 5.99% APR, and fixed monthly payments are required until paid in full. These payments are equal to 1.25% of initial total promo purchase amount, rounded up to the next whole dollar. These payments may be higher than the payments that would be required if this purchase was a non-promo purchase. During the last month(s) of the promo period the required monthly payment may be reduced due to the prior months' rounding. Regular account terms apply to non-promotional purchases. New Accounts as of 7/16/24: | H15: Purchase APR 26.99%. Min Interest Charge $2. One-time Account Activation Fee of $29 charged at time first purchase posts to account. Existing cardholders: See your credit card agreement terms. Subject to credit approval.
A16: 942 | B16: 7.99% APR Until Paid in Full* | C16: On qualifying purchases made with your | D16: On Purchases of $1,000 or more with your | E16: credit card. $29 Account Activation fee may apply. Fixed monthly payments required for 115 months. See reverse side for additional information. | F16: For new accountholders: after the promotion ends, an APR of 26.99% will apply. | G16: Plan 942: Interest will be charged on the promo purchase from the purchase date at a reduced 7.99% APR, and fixed monthly payments are required until paid in full. These payments are equal to 1.25% of initial total promo purchase amount, rounded up to the next whole dollar. These payments may be higher than the payments that would be required if the purchase was a non-promo purchase. During the last month(s) of the promo period the required monthly payment may be reduced due to the prior monthss rounding. Regular account terms apply to non-promotional purchases. New Accounts as of 7/16/24: | H16: Purchase APR 26.99%. Min Interest Charge $2. One-time Account Activation Fee of $29 charged at time first purchase posts to account. Existing cardholders: See your credit card agreement terms. Subject to credit approval.
A17: 943 | B17: 9.99% APR Until Paid in Full* | C17: On qualifying purchases made with your | D17: On Purchases of $1,000 or more with your | E17: credit card. $29 Account Activation fee may apply. Fixed monthly payments required for 132 months. See reverse side for additional information. | F17: For new accountholders: after the promotion ends, an APR of 26.99% will apply. | G17: Plan 943: Interest will be charged on the promo purchase from the purchase date at a reduced 9.99% APR, and fixed monthly payments are required until paid in full. These payments are equal to 1.25% of initial total promo purchase amount, rounded up to the next whole dollar. These payments may be higher than the payments that would be required if the purchase was a non-promo purchase. During the last month(s) of the promo period the required monthly payment may be reduced due to the prior months' rounding. Regular account terms apply to non-promotional purchases. New Accounts as of 7/16/24: | H17: Purchase APR 26.99%. Min Interest Charge $2. One-time Account Activation Fee of $29 charged at time first purchase posts to account. Existing cardholders: See your credit card agreement terms. Subject to credit approval.
A18: 950 | B18: 5.99% APR Until Paid in Full* | C18: On qualifying purchases made with your | D18: On Purchases of $1,000 or more with your | E18: credit card. $29 Account Activation fee may apply. Fixed monthly payments required for 82 months. See reverse side for additional information. | F18: For new accountholders: after the promotion ends, an APR of 26.99% will apply. | G18: Plan 950: Interest will be charged on the promo purchase from the purchase date at a reduced 5.99% APR, and fixed monthly payments are required until paid in full. These payments are equal to 1.50% of initial total promo purchase amount, rounded up to the next whole dollar. These payments may be higher than the payments that would be required if the purchase was a non-promo purchase. During the last month(s) of the promo period the required monthly payment may be reduced due to the prior months' rounding. Regular account terms apply to non-promotional purchases. New Accounts as of 7/16/24: | H18: Purchase APR 26.99%. Min Interest Charge $2. One-time Account Activation Fee of $29 charged at time first purchase posts to account. Existing cardholders: See your credit card agreement terms. Subject to credit approval.
A19: 951 | B19: 7.99% APR Until Paid in Full* | C19: On qualifying purchases made with your | D19: On Purchases of $1,000 or more with your | E19: credit card. $29 Account Activation fee may apply. Fixed monthly payments required for 88 months. See reverse side for additional information. | F19: For new accountholders: after the promotion ends, an APR of 26.99% will apply. | G19: Plan 951: Interest will be charged on the promo purchase from the purchase date at a reduced 7.99% APR, and fixed monthly payments are required until paid in full. These payments are equal to 1.50% of initial total promo purchase amount, rounded up to the next whole dollar. These payments may be higher than the payments that would be required if the purchase was a non-promo purchase. During the last month(s) of the promo period the required monthly payment may be reduced due to the prior months' rounding. Regular account terms apply to non-promotional purchases. New Accounts as of 7/16/24: | H19: Purchase APR 26.99%. Min Interest Charge $2. One-time Account Activation Fee of $29 charged at time first purchase posts to account. Existing cardholders: See your credit card agreement terms. Subject to credit approval.
A20: 952 | B20: 9.99% APR Until Paid in Full* | C20: On qualifying purchases made with your | D20: On Purchases of $1,000 or more with your | E20: credit card. $29 Account Activation fee may apply. Fixed monthly payments required for 98 months. See reverse side for additional information. | F20: For new accountholders: after the promotion ends, an APR of 26.99% will apply. | G20: Plan 952: Interest will be charged on the promo purchase from the purchase date at a reduced 9.99% APR, and fixed monthly payments are required until paid in full. These payments are equal to 1.50% of initial total promo purchase amount, rounded up to the next whole dollar. These payments may be higher than the payments that would be required if the purchase was a non-promo purchase. During the last month(s) of the promo period the required monthly payment may be reduced due to the prior months' rounding. Regular account terms apply to non-promotional purchases. New Accounts as of 7/16/24: | H20: Purchase APR 26.99%. Min Interest Charge $2. One-time Account Activation Fee of $29 charged at time first purchase posts to account. Existing cardholders: See your credit card agreement terms. Subject to credit approval.l
